BEGIN:VCALENDAR
VERSION:2.0
PRODID:-//crccomaha.org//NONSGML kigkonsult.se iCalcreator 2.30.10//
CALSCALE:GREGORIAN
METHOD:PUBLISH
UID:40e80163-d662-46fd-b457-27e0c6a136c7
X-WR-CALDESC:Join us for our annual CRCC family holiday party! Get a drive-
 thru holiday treat and a photo and gift from Santa! Registration for this 
 event is required. Gifts are given to children 13 years old and younger.\n
X-WR-RELCALID:4e01bb1dc3e4c5fb52d0396b9f244444
X-WR-TIMEZONE:America/Chicago
BEGIN:VTIMEZONE
TZID:America/Chicago
BEGIN:STANDARD
TZNAME:CST
DTSTART:20211107T020000
TZOFFSETFROM:-0500
TZOFFSETTO:-0600
RDATE:20221106T020000
END:STANDARD
BEGIN:DAYLIGHT
TZNAME:CDT
DTSTART:20210314T020000
TZOFFSETFROM:-0600
TZOFFSETTO:-0500
RDATE:20220313T020000
RDATE:20230312T020000
END:DAYLIGHT
END:VTIMEZONE
BEGIN:VEVENT
UID:4813c3be-28d3-4cc5-acb5-6736cb7f1ff0
DTSTAMP:20260422T090516Z
DESCRIPTION:Join us for our annual CRCC family holiday party! Get a drive-t
 hru holiday treat and a photo and gift from Santa! Registration for this e
 vent is required. Gifts are given to children 13 years old and younger.\n
DTSTART;TZID=America/Chicago:20211218T100000
DTEND;TZID=America/Chicago:20211218T110000
LOCATION:2010 N 88th St\, Omaha\, NE 68134 US
SUMMARY:Drive Thru Holiday Party
END:VEVENT
END:VCALENDAR
