BEGIN:VCALENDAR
VERSION:2.0
PRODID:-//crccomaha.org//NONSGML kigkonsult.se iCalcreator 2.30.10//
CALSCALE:GREGORIAN
METHOD:PUBLISH
UID:39d694a3-205a-4999-ad0a-baa08d363eca
X-WR-CALDESC:CRCC + UCP are hosting a day of fun at the farm. Join us on Ju
 ne 5th at 10 a.m. or 12:30 p.m. This event is split into two different two
 -hour time slots to avoid crowding and allow for more families to enjoy th
 e day at the farm! This event is for individuals in the community with spe
 cial needs and their immediate family. Masks are encouraged. Space is limi
 ted!
X-WR-RELCALID:8f0633fb7d0adb9311a4715d14f5ec75
X-WR-TIMEZONE:America/Chicago
BEGIN:VTIMEZONE
TZID:America/Chicago
BEGIN:STANDARD
TZNAME:CST
DTSTART:20201101T020000
TZOFFSETFROM:-0500
TZOFFSETTO:-0600
RDATE:20211107T020000
RDATE:20221106T020000
END:STANDARD
BEGIN:DAYLIGHT
TZNAME:CDT
DTSTART:20210314T020000
TZOFFSETFROM:-0600
TZOFFSETTO:-0500
RDATE:20220313T020000
END:DAYLIGHT
END:VTIMEZONE
BEGIN:VEVENT
UID:d552568e-ae47-4b8e-babd-8700fb7fcb0a
DTSTAMP:20260423T045954Z
DESCRIPTION:CRCC + UCP are hosting a day of fun at the farm. Join us on Jun
 e 5th at 10 a.m. or 12:30 p.m. This event is split into two different two-
 hour time slots to avoid crowding and allow for more families to enjoy the
  day at the farm! This event is for individuals in the community with spec
 ial needs and their immediate family. Masks are encouraged. Space is limit
 ed!
DTSTART;TZID=America/Chicago:20210605T100000
DTEND;TZID=America/Chicago:20210605T140000
LOCATION:700 Camp Gifford Rd.\, Bellevue\, NE 68005 US
SUMMARY:Family Focus: Gifford Farm
END:VEVENT
END:VCALENDAR
